BEGIN:VCALENDAR
VERSION:2.0
PRODID:-//wp-events-plugin.com//7.2.3.1//EN
TZID:Europe/Berlin
X-WR-TIMEZONE:Europe/Berlin
BEGIN:VEVENT
UID:551@bfm-bayreuth.de
DTSTART;TZID=Europe/Berlin:20231128T170000
DTEND;TZID=Europe/Berlin:20231128T183000
DTSTAMP:20231110T100022Z
URL:https://www.bfm-bayreuth.de/aktuelles/events/rechtliche-aspekte-beim-e
 insatz-von-ki-tools-im-arbeitsalltag/
SUMMARY:Rechtliche Aspekte beim Einsatz von KI-Tools im Arbeitsalltag
DESCRIPTION:Rechtliche Aspekte beim Einsatz von KI-Tools im Arbeitsalltag
ATTACH;FMTTYPE=image/jpeg:https://www.bfm-bayreuth.de/wp-content/uploads/2
 023/10/KI-und-Datenschutz-1.png
CATEGORIES:Institut
END:VEVENT
BEGIN:VTIMEZONE
TZID:Europe/Berlin
X-LIC-LOCATION:Europe/Berlin
BEGIN:STANDARD
DTSTART:20231029T020000
TZOFFSETFROM:+0200
TZOFFSETTO:+0100
TZNAME:CET
END:STANDARD
END:VTIMEZONE
END:VCALENDAR