BEGIN:VCALENDAR
VERSION:2.0
PRODID:-//wp-events-plugin.com//7.2.3.1//EN
TZID:Europe/Berlin
X-WR-TIMEZONE:Europe/Berlin
BEGIN:VEVENT
UID:212@bfm-bayreuth.de
DTSTART;TZID=Europe/Berlin:20190130T130000
DTEND;TZID=Europe/Berlin:20190130T170000
DTSTAMP:20230613T064242Z
URL:https://www.bfm-bayreuth.de/aktuelles/events/save-the-date-5-oberfraen
 kischer-personal-und-praxistag/
SUMMARY:6. Oberfränkischer Personal- und Praxistag 2019
DESCRIPTION:6. Oberfränkischer Personal- und Praxistag 2019
CATEGORIES:Institut
END:VEVENT
BEGIN:VTIMEZONE
TZID:Europe/Berlin
X-LIC-LOCATION:Europe/Berlin
BEGIN:STANDARD
DTSTART:20181028T020000
TZOFFSETFROM:+0200
TZOFFSETTO:+0100
TZNAME:CET
END:STANDARD
END:VTIMEZONE
END:VCALENDAR