BEGIN:VCALENDAR
VERSION:2.0
PRODID:-//wp-events-plugin.com//7.2.3.1//EN
TZID:Europe/Berlin
X-WR-TIMEZONE:Europe/Berlin
BEGIN:VEVENT
UID:332@bfm-bayreuth.de
DTSTART;TZID=Europe/Berlin:20200130T123000
DTEND;TZID=Europe/Berlin:20200130T170000
DTSTAMP:20230613T064247Z
URL:https://www.bfm-bayreuth.de/aktuelles/events/save-the-date-7-oberfraen
 kischer-personal-und-praxistag-2020/
SUMMARY:7. Oberfränkischer Personal- und Praxistag 2020
DESCRIPTION:7. Oberfränkischer Personal- und Praxistag 2020
CATEGORIES:Institut
END:VEVENT
BEGIN:VTIMEZONE
TZID:Europe/Berlin
X-LIC-LOCATION:Europe/Berlin
BEGIN:STANDARD
DTSTART:20191027T020000
TZOFFSETFROM:+0200
TZOFFSETTO:+0100
TZNAME:CET
END:STANDARD
END:VTIMEZONE
END:VCALENDAR