BEGIN:VCALENDAR
VERSION:2.0
PRODID:-//wp-events-plugin.com//7.2.3.1//EN
TZID:Europe/Berlin
X-WR-TIMEZONE:Europe/Berlin
BEGIN:VEVENT
UID:12@bfm-bayreuth.de
DTSTART;TZID=Europe/Berlin:20230706T130000
DTEND;TZID=Europe/Berlin:20230706T160000
DTSTAMP:20230927T155816Z
URL:https://www.bfm-bayreuth.de/aktuelles/events/save-the-date-bf-m-meets-
 personet-2/
SUMMARY:Save the date: BF/M meets Personet
DESCRIPTION:Save the date: BF/M meets Personet
ATTACH;FMTTYPE=image/jpeg:https://www.bfm-bayreuth.de/wp-content/uploads/2
 023/09/BFM-meets-PERSONET.png
CATEGORIES:Institut
END:VEVENT
BEGIN:VTIMEZONE
TZID:Europe/Berlin
X-LIC-LOCATION:Europe/Berlin
BEGIN:DAYLIGHT
DTSTART:20230326T030000
TZOFFSETFROM:+0100
TZOFFSETTO:+0200
TZNAME:CEST
END:DAYLIGHT
END:VTIMEZONE
END:VCALENDAR