BEGIN:VCALENDAR
VERSION:2.0
PRODID:-//wp-events-plugin.com//7.2.3.1//EN
TZID:Europe/Berlin
X-WR-TIMEZONE:Europe/Berlin
BEGIN:VEVENT
UID:297@bfm-bayreuth.de
DTSTART;TZID=Europe/Berlin:20190918T180000
DTEND;TZID=Europe/Berlin:20190918T213000
DTSTAMP:20230613T064246Z
URL:https://www.bfm-bayreuth.de/aktuelles/events/save-the-date-digitalisie
 rung-greifbar-machen-chancen-fuer-den-mittelstand/
SUMMARY:DGZ-Veranstaltung "Digitalisierung greifbar machen - Chancen für d
 en Mittelstand"
DESCRIPTION:DGZ-Veranstaltung "Digitalisierung greifbar machen - Chancen f
 ür den Mittelstand"
CATEGORIES:Institut
END:VEVENT
BEGIN:VTIMEZONE
TZID:Europe/Berlin
X-LIC-LOCATION:Europe/Berlin
BEGIN:DAYLIGHT
DTSTART:20190331T030000
TZOFFSETFROM:+0100
TZOFFSETTO:+0200
TZNAME:CEST
END:DAYLIGHT
END:VTIMEZONE
END:VCALENDAR