BEGIN:VCALENDAR
VERSION:2.0
PRODID:-//wp-events-plugin.com//7.2.3.1//EN
TZID:Europe/Berlin
X-WR-TIMEZONE:Europe/Berlin
BEGIN:VEVENT
UID:390@bfm-bayreuth.de
DTSTART;TZID=Europe/Berlin:20201021T235900
DTEND;TZID=Europe/Berlin:20201021T235900
DTSTAMP:20230613T064302Z
URL:https://www.bfm-bayreuth.de/aktuelles/events/save-the-date-jubilaeums-
 girt-am-21-oktober-2020/
SUMMARY:Absage: Jubiläums-GIRT am 21. Oktober 2020
DESCRIPTION:Absage: Jubiläums-GIRT am 21. Oktober 2020
CATEGORIES:Institut
END:VEVENT
BEGIN:VTIMEZONE
TZID:Europe/Berlin
X-LIC-LOCATION:Europe/Berlin
BEGIN:DAYLIGHT
DTSTART:20200329T030000
TZOFFSETFROM:+0100
TZOFFSETTO:+0200
TZNAME:CEST
END:DAYLIGHT
END:VTIMEZONE
END:VCALENDAR