BEGIN:VCALENDAR
VERSION:2.0
PRODID:-//wp-events-plugin.com//7.2.3.1//EN
TZID:Europe/Berlin
X-WR-TIMEZONE:Europe/Berlin
BEGIN:VEVENT
UID:513@bfm-bayreuth.de
DTSTART;TZID=Europe/Berlin:20221207T170000
DTEND;TZID=Europe/Berlin:20221207T190000
DTSTAMP:20230626T090442Z
URL:https://www.bfm-bayreuth.de/aktuelles/events/save-the-date-projektauft
 aktveranstaltung-klik/
SUMMARY:Projektauftaktveranstaltung "KliK"
DESCRIPTION:Projektauftaktveranstaltung "KliK"
CATEGORIES:Institut,Klik
END:VEVENT
BEGIN:VTIMEZONE
TZID:Europe/Berlin
X-LIC-LOCATION:Europe/Berlin
BEGIN:STANDARD
DTSTART:20221030T020000
TZOFFSETFROM:+0200
TZOFFSETTO:+0100
TZNAME:CET
END:STANDARD
END:VTIMEZONE
END:VCALENDAR