BEGIN:VCALENDAR
VERSION:2.0
PRODID:-//wp-events-plugin.com//7.2.3.1//EN
TZID:Europe/Berlin
X-WR-TIMEZONE:Europe/Berlin
BEGIN:VEVENT
UID:475@bfm-bayreuth.de
DTSTART;TZID=Europe/Berlin:20220324T173000
DTEND;TZID=Europe/Berlin:20220324T190000
DTSTAMP:20230613T064306Z
URL:https://www.bfm-bayreuth.de/aktuelles/events/stress-durch-technik-inst
 rumente-zur-verbesserung-der-persoenlichen-und-betrieblichen-gesundheitsfu
 ersorge/
SUMMARY:Stress durch Technik – Instrumente zur Verbesserung der persönli
 chen und betrieblichen Gesundheitsfürsorge
DESCRIPTION:Stress durch Technik – Instrumente zur Verbesserung der pers
 önlichen und betrieblichen Gesundheitsfürsorge
CATEGORIES:Institut
END:VEVENT
BEGIN:VTIMEZONE
TZID:Europe/Berlin
X-LIC-LOCATION:Europe/Berlin
BEGIN:STANDARD
DTSTART:20211031T020000
TZOFFSETFROM:+0200
TZOFFSETTO:+0100
TZNAME:CET
END:STANDARD
END:VTIMEZONE
END:VCALENDAR