BEGIN:VCALENDAR
VERSION:2.0
PRODID:-//wp-events-plugin.com//7.2.3.1//EN
TZID:Europe/Berlin
X-WR-TIMEZONE:Europe/Berlin
BEGIN:VEVENT
UID:457@bfm-bayreuth.de
DTSTART;TZID=Europe/Berlin:20211118T170000
DTEND;TZID=Europe/Berlin:20211118T190000
DTSTAMP:20230613T064305Z
URL:https://www.bfm-bayreuth.de/aktuelles/events/themenforum-produktion-se
 ssion-3-effiziente-wertschoepfungssysteme-am-18-november-2021/
SUMMARY:„Themenforum Produktion – Session 3: Effiziente Wertschöpfungs
 systeme“ am 18. November 2021
DESCRIPTION:„Themenforum Produktion – Session 3: Effiziente Wertschöpf
 ungssysteme“ am 18. November 2021
CATEGORIES:Institut
END:VEVENT
BEGIN:VTIMEZONE
TZID:Europe/Berlin
X-LIC-LOCATION:Europe/Berlin
BEGIN:STANDARD
DTSTART:20211031T020000
TZOFFSETFROM:+0200
TZOFFSETTO:+0100
TZNAME:CET
END:STANDARD
END:VTIMEZONE
END:VCALENDAR