BEGIN:VCALENDAR
VERSION:2.0
PRODID:-//wp-events-plugin.com//7.2.3.1//EN
TZID:Europe/Berlin
X-WR-TIMEZONE:Europe/Berlin
BEGIN:VEVENT
UID:431@bfm-bayreuth.de
DTSTART;TZID=Europe/Berlin:20210721T170000
DTEND;TZID=Europe/Berlin:20210721T180000
DTSTAMP:20230613T064304Z
URL:https://www.bfm-bayreuth.de/aktuelles/events/themenforum-versandhandel
 -session-1-e-commerce-fuer-kmu/
SUMMARY:„Themenforum Versandhandel – Session 1: E-Commerce für KMU“
DESCRIPTION:„Themenforum Versandhandel – Session 1: E-Commerce für KMU
 “
CATEGORIES:Institut
END:VEVENT
BEGIN:VTIMEZONE
TZID:Europe/Berlin
X-LIC-LOCATION:Europe/Berlin
BEGIN:DAYLIGHT
DTSTART:20210328T030000
TZOFFSETFROM:+0100
TZOFFSETTO:+0200
TZNAME:CEST
END:DAYLIGHT
END:VTIMEZONE
END:VCALENDAR