BEGIN:VCALENDAR
VERSION:2.0
PRODID:-//wp-events-plugin.com//7.2.3.1//EN
TZID:Europe/Berlin
X-WR-TIMEZONE:Europe/Berlin
BEGIN:VEVENT
UID:22@bfm-bayreuth.de
DTSTART;TZID=Europe/Berlin:20161115T180000
DTEND;TZID=Europe/Berlin:20161115T200000
DTSTAMP:20230613T064145Z
URL:https://www.bfm-bayreuth.de/aktuelles/events/unternehmerdialog/
SUMMARY:Unternehmerdialog
DESCRIPTION:Unternehmerdialog
CATEGORIES:Institut
END:VEVENT
BEGIN:VTIMEZONE
TZID:Europe/Berlin
X-LIC-LOCATION:Europe/Berlin
BEGIN:STANDARD
DTSTART:20161030T020000
TZOFFSETFROM:+0200
TZOFFSETTO:+0100
TZNAME:CET
END:STANDARD
END:VTIMEZONE
END:VCALENDAR