BEGIN:VCALENDAR
VERSION:2.0
PRODID:-//wp-events-plugin.com//7.2.3.1//EN
TZID:Europe/Berlin
X-WR-TIMEZONE:Europe/Berlin
BEGIN:VEVENT
UID:100@bfm-bayreuth.de
DTSTART;TZID=Europe/Berlin:20180118T190000
DTEND;TZID=Europe/Berlin:20180118T203000
DTSTAMP:20230613T064149Z
URL:https://www.bfm-bayreuth.de/aktuelles/events/verkaufstraining-fuer-gru
 ender-the-real-selling-thing/
SUMMARY:Verkaufstraining für Gründer - The Real Selling Thing
DESCRIPTION:Verkaufstraining für Gründer - The Real Selling Thing
CATEGORIES:Institut
END:VEVENT
BEGIN:VTIMEZONE
TZID:Europe/Berlin
X-LIC-LOCATION:Europe/Berlin
BEGIN:STANDARD
DTSTART:20171029T020000
TZOFFSETFROM:+0200
TZOFFSETTO:+0100
TZNAME:CET
END:STANDARD
END:VTIMEZONE
END:VCALENDAR