BEGIN:VCALENDAR
VERSION:2.0
PRODID:-//wp-events-plugin.com//7.2.3.1//EN
TZID:Europe/Berlin
X-WR-TIMEZONE:Europe/Berlin
BEGIN:VEVENT
UID:708@bfm-bayreuth.de
DTSTART;TZID=Europe/Berlin:20260120T161500
DTEND;TZID=Europe/Berlin:20260120T171500
DTSTAMP:20260120T114907Z
URL:https://www.bfm-bayreuth.de/aktuelles/events/vermoegensverwaltendes-as
 set-management-fuer-privatkunden-anwendung-von-gaengigen-konzepten-der-por
 tfoliokonstruktion-in-der-praxis/
SUMMARY:Vermögensverwaltendes Asset Management für Privatkunden - Anwendu
 ng von gängigen Konzepten der Portfoliokonstruktion in der Praxis
DESCRIPTION:Vermögensverwaltendes Asset Management für Privatkunden - Anw
 endung von gängigen Konzepten der Portfoliokonstruktion in der Praxis
ATTACH;FMTTYPE=image/jpeg:https://www.bfm-bayreuth.de/wp-content/uploads/2
 026/01/ChatGPT-Image-19-ene-2026-10_20_28-p.m.png
CATEGORIES:Institut
LOCATION:Universität Bayreuth\, Hörsaal H25 (RW I)\, Universitätsstraße
  30\, 95447 Bayreuth\, Deutschland
X-APPLE-STRUCTURED-LOCATION;VALUE=URI;X-ADDRESS=Universitätsstraße 30\, 9
 5447 Bayreuth\, Deutschland;X-APPLE-RADIUS=100;X-TITLE=Universität Bayreu
 th\, Hörsaal H25 (RW I):geo:0,0
END:VEVENT
BEGIN:VTIMEZONE
TZID:Europe/Berlin
X-LIC-LOCATION:Europe/Berlin
BEGIN:STANDARD
DTSTART:20251026T020000
TZOFFSETFROM:+0200
TZOFFSETTO:+0100
TZNAME:CET
END:STANDARD
END:VTIMEZONE
END:VCALENDAR