BEGIN:VCALENDAR
VERSION:2.0
PRODID:-//wp-events-plugin.com//7.2.3.1//EN
TZID:Europe/Berlin
X-WR-TIMEZONE:Europe/Berlin
BEGIN:VEVENT
UID:165@bfm-bayreuth.de
DTSTART;TZID=Europe/Berlin:20180927T160000
DTEND;TZID=Europe/Berlin:20180927T190000
DTSTAMP:20230613T064152Z
URL:https://www.bfm-bayreuth.de/aktuelles/events/virtual-reality-augmented
 -reality-digitalisierung-zum-anfassen/
SUMMARY:Virtual Reality & Augmented Reality: Digitalisierung zum Anfassen
DESCRIPTION:Virtual Reality & Augmented Reality: Digitalisierung zum Anfass
 en
CATEGORIES:Institut
END:VEVENT
BEGIN:VTIMEZONE
TZID:Europe/Berlin
X-LIC-LOCATION:Europe/Berlin
BEGIN:DAYLIGHT
DTSTART:20180325T030000
TZOFFSETFROM:+0100
TZOFFSETTO:+0200
TZNAME:CEST
END:DAYLIGHT
END:VTIMEZONE
END:VCALENDAR