BEGIN:VCALENDAR
VERSION:2.0
PRODID:-//wp-events-plugin.com//7.2.3.1//EN
TZID:Europe/Berlin
X-WR-TIMEZONE:Europe/Berlin
BEGIN:VEVENT
UID:520@bfm-bayreuth.de
DTSTART;TZID=Europe/Berlin:20230216T130000
DTEND;TZID=Europe/Berlin:20230216T170000
DTSTAMP:20231002T095408Z
URL:https://www.bfm-bayreuth.de/aktuelles/events/vom-hidden-champion-in-di
 e-sichtbarkeit-attraktiver-arbeitgeber-werden-mit-insights-und-system/
SUMMARY:Vom Hidden Champion in die Sichtbarkeit: Attraktiver Arbeitgeber we
 rden mit Insights und System
DESCRIPTION:Vom Hidden Champion in die Sichtbarkeit: Attraktiver Arbeitgebe
 r werden mit Insights und System
ATTACH;FMTTYPE=image/jpeg:https://www.bfm-bayreuth.de/wp-content/uploads/2
 023/10/Vom-Hidden-Champion-in-die-Sichtbarkeit.png
CATEGORIES:Institut
END:VEVENT
BEGIN:VTIMEZONE
TZID:Europe/Berlin
X-LIC-LOCATION:Europe/Berlin
BEGIN:STANDARD
DTSTART:20221030T020000
TZOFFSETFROM:+0200
TZOFFSETTO:+0100
TZNAME:CET
END:STANDARD
END:VTIMEZONE
END:VCALENDAR