BEGIN:VCALENDAR
VERSION:2.0
PRODID:-//wp-events-plugin.com//7.2.3.1//EN
TZID:Europe/Berlin
X-WR-TIMEZONE:Europe/Berlin
BEGIN:VEVENT
UID:318@bfm-bayreuth.de
DTSTART;TZID=Europe/Berlin:20191121T081500
DTEND;TZID=Europe/Berlin:20191121T094500
DTSTAMP:20230613T064247Z
URL:https://www.bfm-bayreuth.de/aktuelles/events/vortrag-erfolgshebel-in-d
 er-neuausrichtung-einer-traditionsmarke/
SUMMARY:Gastvortrag „Erfolgshebel in der Neuausrichtung einer Traditionsm
 arke“
DESCRIPTION:Gastvortrag „Erfolgshebel in der Neuausrichtung einer Traditi
 onsmarke“
CATEGORIES:Institut
END:VEVENT
BEGIN:VTIMEZONE
TZID:Europe/Berlin
X-LIC-LOCATION:Europe/Berlin
BEGIN:STANDARD
DTSTART:20191027T020000
TZOFFSETFROM:+0200
TZOFFSETTO:+0100
TZNAME:CET
END:STANDARD
END:VTIMEZONE
END:VCALENDAR